BEGIN:VCALENDAR
VERSION:2.0
PRODID:-//Advance Care Alliance New York - ACANY - ECPv6.15.18//NONSGML v1.0//EN
CALSCALE:GREGORIAN
METHOD:PUBLISH
X-WR-CALNAME:Advance Care Alliance New York - ACANY
X-ORIGINAL-URL:https://acany.org
X-WR-CALDESC:Events for Advance Care Alliance New York - ACANY
REFRESH-INTERVAL;VALUE=DURATION:PT1H
X-Robots-Tag:noindex
X-PUBLISHED-TTL:PT1H
BEGIN:VTIMEZONE
TZID:America/New_York
BEGIN:DAYLIGHT
TZOFFSETFROM:-0500
TZOFFSETTO:-0400
TZNAME:EDT
DTSTART:20250309T070000
END:DAYLIGHT
BEGIN:STANDARD
TZOFFSETFROM:-0400
TZOFFSETTO:-0500
TZNAME:EST
DTSTART:20251102T060000
END:STANDARD
BEGIN:DAYLIGHT
TZOFFSETFROM:-0500
TZOFFSETTO:-0400
TZNAME:EDT
DTSTART:20260308T070000
END:DAYLIGHT
BEGIN:STANDARD
TZOFFSETFROM:-0400
TZOFFSETTO:-0500
TZNAME:EST
DTSTART:20261101T060000
END:STANDARD
BEGIN:DAYLIGHT
TZOFFSETFROM:-0500
TZOFFSETTO:-0400
TZNAME:EDT
DTSTART:20270314T070000
END:DAYLIGHT
BEGIN:STANDARD
TZOFFSETFROM:-0400
TZOFFSETTO:-0500
TZNAME:EST
DTSTART:20271107T060000
END:STANDARD
END:VTIMEZONE
BEGIN:VEVENT
DTSTART;TZID=America/New_York:20260416T120000
DTEND;TZID=America/New_York:20260416T133000
DTSTAMP:20260422T053540
CREATED:20260323T195214Z
LAST-MODIFIED:20260323T195439Z
UID:10000030-1776340800-1776346200@acany.org
SUMMARY:Creating Sensory Supportive Environments (afternoon session)
DESCRIPTION:April Virtual Learning Session: Creating Sensory Supportive Environments: A Practical Guide for Home & School\nThursday\, April 16\, 2026\, at 12 p.m. \nPresenter: Katie Kirkman\, M.Ed. \nKatie Kirkman\, M.Ed.\, is an education specialist with nearly two decades of experience working with neurodivergent children\, their families\, and the practitioners who support them. She has built a comprehensive career\, having served in key roles as a teacher\, behavior specialist\, and researcher. Katie now works directly with professionals to translate this experience into effective\, real-world strategies. \nDescription: \nDoes your child or student struggle with loud noises\, bright lights\, certain textures\, or constant movement? Overstimulating environments can significantly impact a child’s ability to learn\, play\, and interact effectively in both home and school settings.\nJoin us for a webinar designed for parents and educators with sensory-sensitive youth. You will discover practical strategies and creative solutions to transform everyday spaces into calming\, supportive environments that foster better focus\, emotional regulation\, and overall well-being. *from the presenter \nWho would benefit most from attending: \nFamilies and caregivers\, teachers\, social workers\, therapists \nWhat they will learn: \n\nLearn how different senses affect how children feel\, behave\, and interact with the world.\nUnderstand why some children become overwhelmed or seek extra sensory input.\nExplore simple ways to make home or school spaces calmer and more comfortable.\nGet ideas that help children manage their emotions and bodies in a calmer\, more confident way.\nTake away simple\, practical tools you can start using right away to support children in daily routines.\n\n 
URL:https://acany.org/eventcalendar/creating-sensory-supportive-environments-afternoon-session/
CATEGORIES:Virtual Learning Sessions
ATTACH;FMTTYPE=image/png:https://acany.org/wp-content/uploads/2026/03/sensory-M5F3fe.png
ORGANIZER;CN="Member Relations Team":MAILTO:memberrelations@lifeplanccony.com
LOCATION:https://acany.webex.com/acany/j.php?MTID=m8c0b06f8de791a3b3ac2c35c9dc50ccd
END:VEVENT
BEGIN:VEVENT
DTSTART;TZID=America/New_York:20260416T180000
DTEND;TZID=America/New_York:20260416T193000
DTSTAMP:20260422T053540
CREATED:20260323T195559Z
LAST-MODIFIED:20260323T195559Z
UID:10000031-1776362400-1776367800@acany.org
SUMMARY:Creating Sensory Supportive Environments (evening session)
DESCRIPTION:April Virtual Learning Session: Creating Sensory Supportive Environments: A Practical Guide for Home & School\nThursday\, April 16\, 2026\, at 6 p.m.\nPresenter: Katie Kirkman\, M.Ed. \nKatie Kirkman\, M.Ed.\, is an education specialist with nearly two decades of experience working with neurodivergent children\, their families\, and the practitioners who support them. She has built a comprehensive career\, having served in key roles as a teacher\, behavior specialist\, and researcher. Katie now works directly with professionals to translate this experience into effective\, real-world strategies. \nDescription: \nDoes your child or student struggle with loud noises\, bright lights\, certain textures\, or constant movement? Overstimulating environments can significantly impact a child’s ability to learn\, play\, and interact effectively in both home and school settings.Join us for a webinar designed for parents and educators with sensory-sensitive youth. You will discover practical strategies and creative solutions to transform everyday spaces into calming\, supportive environments that foster better focus\, emotional regulation\, and overall well-being. *from the presenter \nWho would benefit most from attending: \nFamilies and caregivers\, teachers\, social workers\, therapists \nWhat they will learn: \n\nLearn how different senses affect how children feel\, behave\, and interact with the world.\nUnderstand why some children become overwhelmed or seek extra sensory input.\nExplore simple ways to make home or school spaces calmer and more comfortable.\nGet ideas that help children manage their emotions and bodies in a calmer\, more confident way.\nTake away simple\, practical tools you can start using right away to support children in daily routines.\n\n  \n\n\n\n\n\n\n\n\n\n 
URL:https://acany.org/eventcalendar/creating-sensory-supportive-environments-evening-session/
CATEGORIES:Virtual Learning Sessions
ATTACH;FMTTYPE=image/png:https://acany.org/wp-content/uploads/2026/03/sensory-M5F3fe.png
ORGANIZER;CN="Member Relations Team":MAILTO:memberrelations@lifeplanccony.com
LOCATION:https://acany.webex.com/acany/j.php?MTID=m400129f8cb429fbe8aba751f378c1701
END:VEVENT
END:VCALENDAR